BEGIN:VCALENDAR
VERSION:2.0
PRODID:-//Comité des Fêtes de Saint-Orens - ECPv6.15.18//NONSGML v1.0//EN
CALSCALE:GREGORIAN
METHOD:PUBLISH
X-WR-CALNAME:Comité des Fêtes de Saint-Orens
X-ORIGINAL-URL:https://comite-fetes-storens.fr
X-WR-CALDESC:Évènements pour Comité des Fêtes de Saint-Orens
REFRESH-INTERVAL;VALUE=DURATION:PT1H
X-Robots-Tag:noindex
X-PUBLISHED-TTL:PT1H
BEGIN:VTIMEZONE
TZID:Europe/Paris
BEGIN:DAYLIGHT
TZOFFSETFROM:+0100
TZOFFSETTO:+0200
TZNAME:CEST
DTSTART:20250330T010000
END:DAYLIGHT
BEGIN:STANDARD
TZOFFSETFROM:+0200
TZOFFSETTO:+0100
TZNAME:CET
DTSTART:20251026T010000
END:STANDARD
BEGIN:DAYLIGHT
TZOFFSETFROM:+0100
TZOFFSETTO:+0200
TZNAME:CEST
DTSTART:20260329T010000
END:DAYLIGHT
BEGIN:STANDARD
TZOFFSETFROM:+0200
TZOFFSETTO:+0100
TZNAME:CET
DTSTART:20261025T010000
END:STANDARD
BEGIN:DAYLIGHT
TZOFFSETFROM:+0100
TZOFFSETTO:+0200
TZNAME:CEST
DTSTART:20270328T010000
END:DAYLIGHT
BEGIN:STANDARD
TZOFFSETFROM:+0200
TZOFFSETTO:+0100
TZNAME:CET
DTSTART:20271031T010000
END:STANDARD
END:VTIMEZONE
BEGIN:VEVENT
DTSTART;TZID=Europe/Paris:20260507T180000
DTEND;TZID=Europe/Paris:20260510T190000
DTSTAMP:20260424T153312
CREATED:20250409T145236Z
LAST-MODIFIED:20260316T110538Z
UID:1446-1778176800-1778439600@comite-fetes-storens.fr
SUMMARY:Fête locale
DESCRIPTION:Au programme :\n\n\n\n  JEUDI 07 MAI \n\n\n\n18h : Ouverture de la fête foraine \n\n\n\n21h30 – 01h45 : Soirée avec Matsone \n\n\n\n VENDREDI 08 MAI \n\n\n\nCérémonie et dépôt de gerbe aux monuments aux morts \n\n\n\n14h : Ouverture de la fête foraine \n\n\n\n21h30 – 01h45 : Soirée avec DJ Pronight \n\n\n\n01h45 : Fermeture de la buvette \n\n\n\n SAMEDI 09 MAI \n\n\n\n11h30 : Apéritif sur le parvis du Marché \n\n\n\n14h : Ouverture de la fête foraine \n\n\n\n21h30 – 01h45 : Soirée avec l’orchestre EPSILON \n\n\n\n🎡Dimanche 10 MAI \n\n\n\n11h30 : Apéritif offert par le Comité des fêtes \n\n\n\n14h : Ouverture de la fête \n\n\n\n19h : Fermeture de la fête \n\n\n\n\n\n\n\n\nLe Comité des fêtes de Saint-Orens vous souhaite un bon week-end !
URL:https://comite-fetes-storens.fr/evenement/fete-locale/
LOCATION:Place Jean Bellières\, Pl. Jean Bellières\, St-Orens-de-Gameville\, 31650\, France
END:VEVENT
BEGIN:VEVENT
DTSTART;TZID=Europe/Paris:20260713T180000
DTEND;TZID=Europe/Paris:20260714T014500
DTSTAMP:20260424T153312
CREATED:20250409T170034Z
LAST-MODIFIED:20260221T075014Z
UID:685-1783965600-1783993500@comite-fetes-storens.fr
SUMMARY:Mousse Party & Feu d'Artifice
DESCRIPTION:Au programme :\n\n\n\n\nSoirée Mousse avec DJ PRONIGHT\n\n\n\nBuvette & restauration sur place avec un marché gourmand organisé par LES PROS DE ST-O (SANS RESERVATION)\n\n\n\nPrésentation de voitures de collection\n\n\n\nFeu d’artifice Evenium Concept sur la place. MERCI de bien vouloir respecter les consignes de sécurité ainsi que les barrières mises sur place. \n\n\n\n\n\n\n\n\n\n\n\n\n\n\n\n\n\n\n\n\n\nLe Comité des fêtes de Saint-Orens vous souhaite une bonne soirée \n\n\n\n\n\n\n\n\n\n\n\nPartagez avec votre entourageShareSharePostEmail
URL:https://comite-fetes-storens.fr/evenement/feu-dartifice/
LOCATION:Place Jean Bellières\, Pl. Jean Bellières\, St-Orens-de-Gameville\, 31650\, France
ATTACH;FMTTYPE=image/png:https://comite-fetes-storens.fr/wp-content/uploads/2026/02/13-Juillet-2026.png
END:VEVENT
BEGIN:VEVENT
DTSTART;TZID=Europe/Paris:20260920T080000
DTEND;TZID=Europe/Paris:20260920T170000
DTSTAMP:20260424T153312
CREATED:20250409T170044Z
LAST-MODIFIED:20260221T075121Z
UID:543-1789891200-1789923600@comite-fetes-storens.fr
SUMMARY:Vide Grenier
DESCRIPTION:Au programme :\n\n\n\n\nBuvette & restauration sur place\n\n\n\nLe comité propose des jeux gonflables et un manège gratuits.\n\n\n\n\n\n\n\n\n\n\n\n\n \n\n\n\n\n\n\n\n\n\n\n\n\nLe Comité des fêtes de Saint-Orens vous souhaite une agréable journée \n\n\n\n\n\n\n\n\n\n\nPlaces limitées !
URL:https://comite-fetes-storens.fr/evenement/vide-grenier/
LOCATION:Place Jean Bellières\, Pl. Jean Bellières\, St-Orens-de-Gameville\, 31650\, France
ATTACH;FMTTYPE=image/png:https://comite-fetes-storens.fr/wp-content/uploads/2026/02/Vide-grenier.png
END:VEVENT
BEGIN:VEVENT
DTSTART;TZID=Europe/Paris:20261031T180000
DTEND;TZID=Europe/Paris:20261101T014500
DTSTAMP:20260424T153312
CREATED:20250501T200011Z
LAST-MODIFIED:20260221T075304Z
UID:665-1793469600-1793497500@comite-fetes-storens.fr
SUMMARY:Soirée Halloween
DESCRIPTION:Au programme :\n\n\n\n\nDj & surprises\n\n\n\nConcours du Meilleurs Déguisement\n\n\n\nBuvette & restauration sur place\n\n\n\nBonbons à gogo\n\n\n\nPhotos souvenirs avec un Photobooth\n\n\n\n\n\n\n\n\n\n\n\n\n\nLe Comité des fêtes de Saint-Orens vous souhaite une terrible soirée ! \n\n\n\n\n\n\n\n\n\n\n\nPartagez avec votre entourageShareSharePostEmail
URL:https://comite-fetes-storens.fr/evenement/soiree-speciale-halloween/
LOCATION:Espace Lauragais\, Espace Lauragais\, St-Orens-de-Gameville\, 31650\, France
ATTACH;FMTTYPE=image/png:https://comite-fetes-storens.fr/wp-content/uploads/2026/02/halloween.png
END:VEVENT
BEGIN:VEVENT
DTSTART;TZID=Europe/Paris:20261206T090000
DTEND;TZID=Europe/Paris:20261206T180000
DTSTAMP:20260424T153312
CREATED:20230106T114520Z
LAST-MODIFIED:20260221T075459Z
UID:1656-1796547600-1796580000@comite-fetes-storens.fr
SUMMARY:Marché de Noël
DESCRIPTION:Au programme :\n\n\n\n\nBuvette & restauration sur place\n\n\n\nMaquillage & Photo avec le Père-Noël GRATUIT\n\n\n\n\n\n\n\n\n\nBulletin d’inscription\n\n\n\n\n\n\n\n\n\n\n\n\n\nLe Comité des fêtes de Saint-Orens vous souhaite de belles fêtes de fin d’année \n\n\n\n\n\n\n\n\n\n\nPlaces limitées ! \n\n\n\n\nPartagez avec votre entourageShareSharePostEmail
URL:https://comite-fetes-storens.fr/evenement/marche-de-noel/
LOCATION:Espace Lauragais\, Espace Lauragais\, St-Orens-de-Gameville\, 31650\, France
ATTACH;FMTTYPE=image/png:https://comite-fetes-storens.fr/wp-content/uploads/2026/02/Marche-de-Noel.png
END:VEVENT
END:VCALENDAR